BEGIN:VCALENDAR
VERSION:2.0
PRODID:-//Kreiselternrat Barnim - ECPv6.15.20//NONSGML v1.0//EN
CALSCALE:GREGORIAN
METHOD:PUBLISH
X-ORIGINAL-URL:https://kreiselternrat-barnim.de
X-WR-CALDESC:Veranstaltungen für Kreiselternrat Barnim
REFRESH-INTERVAL;VALUE=DURATION:PT1H
X-Robots-Tag:noindex
X-PUBLISHED-TTL:PT1H
BEGIN:VTIMEZONE
TZID:UTC
BEGIN:STANDARD
TZOFFSETFROM:+0000
TZOFFSETTO:+0000
TZNAME:UTC
DTSTART:20240101T000000
END:STANDARD
END:VTIMEZONE
BEGIN:VEVENT
DTSTART;TZID=UTC:20251204T173000
DTEND;TZID=UTC:20251204T193000
DTSTAMP:20260421T204118
CREATED:20251205T222525Z
LAST-MODIFIED:20251206T152149Z
UID:13-1764869400-1764876600@kreiselternrat-barnim.de
SUMMARY:2. Sitzung Kreiselternrat
DESCRIPTION:
URL:https://kreiselternrat-barnim.de/event/2-sitzung-kreiselternrat/
LOCATION:Grundschule im Rosenpark\, Kleeallee 1\, Werneuchen\, Brandenburg\, 16356\, Germany
CATEGORIES:Sitzungen
END:VEVENT
END:VCALENDAR